{"text_format":"3","workbook":"xlsx","n_sheets":2,"sheets":["計画書","報告書"],"not_rendered":{"defined_names":1},"read":"whole","date_system":"1900"}

{"sheet":"計画書","index":0,"n_rows":33,"n_cols":41,"rows_kept":33,"merged":[[0,12,1,29],[1,33,1,38],[2,1,2,4],[2,32,2,34],[2,35,2,36],[2,38,2,39],[3,1,3,6],[3,7,3,13],[3,14,3,17],[3,18,3,22],[3,23,3,28],[3,29,3,34],[3,35,3,40],[4,1,5,6],[4,7,5,40],[6,1,6,6],[6,7,7,40],[7,1,7,6],[8,1,9,6],[8,7,9,40],[10,1,10,6],[10,7,10,13],[10,14,10,15],[10,17,10,18],[10,21,10,22],[10,24,10,25],[10,27,10,31],[10,32,10,40],[11,1,12,6],[11,9,11,14],[11,17,11,22],[11,25,11,31],[11,34,11,39],[12,9,12,14],[12,17,12,22],[12,25,12,31],[12,34,12,39],[13,1,13,40],[14,1,14,20],[14,21,14,40],[15,1,15,6],[15,7,15,13],[15,14,15,20],[15,21,15,26],[15,27,15,33],[15,34,15,40],[16,1,16,6],[16,7,16,13],[16,14,16,20],[16,21,16,26],[16,27,16,33],[16,34,16,40],[17,1,17,6],[17,7,17,13],[17,14,17,20],[17,21,17,26],[17,27,17,33],[17,34,17,40],[18,1,18,6],[18,7,18,13],[18,14,18,20],[18,21,18,26],[18,27,18,33],[18,34,18,40],[19,1,19,6],[19,7,19,13],[19,14,19,20],[19,21,19,26],[19,27,19,33],[19,34,19,40],[20,1,20,6],[20,7,20,13],[20,14,20,20],[20,21,20,26],[20,27,20,33],[20,34,20,40],[21,1,21,6],[21,7,21,13],[21,14,21,20],[21,21,21,26],[21,27,21,33],[21,34,21,40],[22,1,22,6],[22,7,22,13],[22,14,22,20],[22,21,22,26],[22,27,22,33],[22,34,22,40],[23,1,23,6],[23,7,23,13],[23,14,23,20],[23,21,23,26],[23,27,23,33],[23,34,23,40],[24,1,24,6],[24,7,24,13],[24,14,24,20],[24,21,24,26],[24,27,24,33],[24,34,24,40],[25,1,25,6],[25,7,25,13],[25,14,25,20],[25,21,25,26],[25,27,25,33],[25,34,25,40],[26,1,26,6],[26,7,26,13],[26,14,26,20],[26,21,26,26],[26,27,26,33],[26,34,26,40],[27,1,27,6],[27,7,27,13],[27,14,27,20],[27,21,27,26],[27,27,27,33],[27,34,27,40],[28,1,28,6],[28,7,28,13],[28,14,28,20],[28,21,28,26],[28,27,28,33],[28,34,28,40],[29,1,29,6],[29,7,29,13],[29,14,29,20],[29,21,29,26],[29,27,29,33],[29,34,29,40],[33,1,33,40],[34,1,34,40],[35,1,35,40],[36,1,36,40],[37,1,37,40],[38,1,38,40],[39,1,39,40],[40,1,40,40],[41,1,41,40],[42,1,42,40],[43,1,43,40],[44,1,44,40],[45,1,45,40]]}
[{"$nulls":12},"事業計画書",{"$nulls":22},"№"]
[{"$nulls":33},2020,{"$nulls":5},"年度"]
[null,"ver.202001",{"$nulls":30},"提出日",{"$nulls":4},"月",null,null,"日"]
[{"$nulls":7},"　",{"$nulls":6},{"$f":"IF(H4=\"\",\"\",IF(H4=\"森山\",\"支部\",IF(H4=\"執行部\",\"\",\"委員会\")))","v":"委員会"},{"$nulls":3},{"$f":"IF(H4=\"執行部\",\"会長\",\"委員長\")","v":"委員長"},{"$nulls":10},{"$f":"IF(H4=\"執行部\",\"幹　　事\",\"担当副会長\")","v":"担当副会長"}]
[null,"事業名"]
[]
[null,"事業内容"]
[null,"目的"]
[null,"出席者"]
[]
[null,"日時・場所",{"$nulls":14},"時",null,null,"分","～",null,null,"時",null,null,"分","場所"]
[null,"事業予算",{"$nulls":7},"委員会総予算",{"$nulls":7},"今回使用額",{"$nulls":7},"累計使用額",{"$nulls":8},"残額"]
[{"$nulls":17},{"$f":"IF(M1=\"事業計画書\",\"\",#REF!)","v":""},{"$nulls":16},{"$f":"IF(J13=\"\",\"\",J13-Z13)","v":""}]
[null,"予　　　　　　　　　　　　　　　　　　　　　算"]
[null,"収　　　　　　　　　　　　入",{"$nulls":19},"支　　　　　　　　　　　　出"]
[null,"項目",{"$nulls":5},"金額",{"$nulls":6},"摘要",{"$nulls":6},"項目",{"$nulls":5},"金額",{"$nulls":6},"摘要"]
{"$rows_empty":13}
[{"$nulls":7},{"$f":"SUM(H17:N29)","v":{"v":0,"d":"0 "}},{"$nulls":19},{"$f":"SUM(AB17:AH29)","v":{"v":0,"d":"0 "}}]
[]
[]
[null,"備考"]

{"sheet":"報告書","index":1,"n_rows":47,"n_cols":82,"rows_kept":47,"merged":[[0,9,1,29],[1,33,1,38],[2,1,2,4],[2,32,2,34],[2,35,2,36],[2,38,2,39],[3,1,3,6],[3,7,3,13],[3,14,3,17],[3,18,3,22],[3,23,3,28],[3,29,3,34],[3,35,3,40],[3,48,3,53],[3,54,3,57],[3,59,3,66],[3,67,3,72],[3,73,3,76],[3,78,3,83],[3,84,3,89],[4,1,5,6],[4,7,5,40],[4,48,4,53],[4,54,4,59],[4,60,4,65],[4,66,4,71],[4,72,4,77],[4,78,4,83],[4,84,4,89],[5,48,5,53],[5,54,5,59],[5,60,5,65],[5,66,5,71],[5,72,5,77],[5,78,5,83],[5,84,5,89],[6,1,6,6],[6,7,7,40],[6,48,6,53],[6,54,6,59],[6,60,6,65],[6,66,6,71],[6,72,6,77],[6,78,6,83],[6,84,6,89],[7,1,7,6],[7,48,7,53],[7,54,7,59],[7,60,7,65],[7,66,7,71],[7,72,7,77],[7,78,7,83],[7,84,7,89],[8,1,9,6],[8,7,9,31],[8,32,9,36],[8,37,9,40],[8,48,8,53],[8,54,8,59],[8,60,8,65],[8,66,8,71],[8,72,8,77],[8,78,8,83],[8,84,8,89],[9,48,9,56],[9,57,9,58],[9,60,9,65],[9,66,9,71],[9,72,9,77],[9,78,9,83],[9,84,9,89],[10,1,10,6],[10,7,10,13],[10,14,10,15],[10,17,10,18],[10,21,10,22],[10,24,10,25],[10,27,10,31],[10,32,10,40],[10,48,10,53],[10,54,10,59],[10,60,10,65],[10,66,10,71],[10,72,10,77],[10,78,10,83],[10,84,10,89],[11,1,12,6],[11,9,11,15],[11,17,11,22],[11,25,11,31],[11,34,11,39],[11,48,11,53],[11,54,11,59],[11,60,11,65],[11,66,11,71],[11,72,11,77],[11,78,11,83],[11,84,11,89],[12,9,12,14],[12,17,12,22],[12,25,12,31],[12,34,12,39],[12,48,12,53],[12,54,12,59],[12,60,12,65],[12,66,12,71],[12,72,12,77],[12,78,12,83],[12,84,12,89],[13,1,13,40],[13,64,13,65],[13,79,13,82],[13,83,13,86],[14,1,14,20],[14,21,14,40],[14,49,14,50],[14,52,14,53],[14,55,14,56],[14,59,14,60],[14,62,14,63],[14,64,14,65],[14,67,14,89],[15,1,15,6],[15,7,15,13],[15,14,15,20],[15,21,15,26],[15,27,15,33],[15,34,15,40],[15,49,15,50],[15,52,15,53],[15,55,15,56],[15,59,15,60],[15,62,15,63],[15,64,15,65],[15,67,15,89],[16,1,16,6],[16,7,16,13],[16,14,16,20],[16,21,16,26],[16,27,16,33],[16,34,16,40],[16,49,16,50],[16,52,16,53],[16,55,16,56],[16,59,16,60],[16,62,16,63],[16,64,16,65],[16,67,16,89],[17,1,17,6],[17,7,17,13],[17,14,17,20],[17,21,17,26],[17,27,17,33],[17,34,17,40],[17,49,17,50],[17,52,17,53],[17,55,17,56],[17,59,17,60],[17,62,17,63],[17,64,17,65],[17,67,17,89],[18,1,18,6],[18,7,18,13],[18,14,18,20],[18,21,18,26],[18,27,18,33],[18,34,18,40],[18,49,18,50],[18,52,18,53],[18,55,18,56],[18,59,18,60],[18,62,18,63],[18,64,18,65],[18,67,18,89],[19,1,19,6],[19,7,19,13],[19,14,19,20],[19,21,19,26],[19,27,19,33],[19,34,19,40],[19,49,19,50],[19,52,19,53],[19,55,19,56],[19,59,19,60],[19,62,19,63],[19,64,19,65],[19,67,19,89],[20,1,20,6],[20,7,20,13],[20,14,20,20],[20,21,20,26],[20,27,20,33],[20,34,20,40],[20,49,20,50],[20,52,20,53],[20,55,20,56],[20,59,20,60],[20,62,20,63],[20,64,20,65],[20,67,20,89],[21,1,21,6],[21,7,21,13],[21,14,21,20],[21,21,21,26],[21,27,21,33],[21,34,21,40],[21,49,21,50],[21,52,21,53],[21,55,21,56],[21,59,21,60],[21,62,21,63],[21,64,21,65],[21,67,21,89],[22,1,22,6],[22,7,22,13],[22,14,22,20],[22,21,22,26],[22,27,22,33],[22,34,22,40],[22,49,22,50],[22,52,22,53],[22,55,22,56],[22,59,22,60],[22,62,22,63],[22,64,22,65],[22,67,22,89],[23,1,23,6],[23,7,23,13],[23,14,23,20],[23,21,23,26],[23,27,23,33],[23,34,23,40],[23,47,23,48],[23,49,23,50],[23,52,23,53],[23,55,23,56],[23,59,23,60],[23,62,23,63],[23,64,23,65],[23,67,23,89],[24,1,24,6],[24,7,24,13],[24,14,24,20],[24,21,24,26],[24,27,24,33],[24,34,24,40],[24,59,24,61],[24,62,24,65],[25,1,25,6],[25,7,25,13],[25,14,25,20],[25,21,25,26],[25,27,25,33],[25,34,25,40],[26,1,26,6],[26,7,26,13],[26,14,26,20],[26,21,26,26],[26,27,26,33],[26,34,26,40],[26,49,26,89],[27,1,27,6],[27,7,27,13],[27,14,27,20],[27,21,27,26],[27,27,27,33],[27,34,27,40],[27,49,27,89],[28,1,28,6],[28,7,28,13],[28,14,28,20],[28,21,28,26],[28,27,28,33],[28,34,28,40],[29,1,29,6],[29,7,29,13],[29,14,29,20],[29,21,29,26],[29,27,29,33],[29,34,29,40],[29,49,29,89],[30,1,30,40],[31,1,31,20],[31,21,31,40],[31,49,31,89],[32,1,32,6],[32,7,32,13],[32,14,32,20],[32,21,32,26],[32,27,32,33],[32,34,32,40],[33,1,33,6],[33,7,33,13],[33,14,33,20],[33,21,33,26],[33,27,33,33],[33,34,33,40],[33,49,33,89],[34,1,34,6],[34,7,34,13],[34,14,34,20],[34,21,34,26],[34,27,34,33],[34,34,34,40],[34,49,34,89],[35,1,35,6],[35,7,35,13],[35,14,35,20],[35,21,35,26],[35,27,35,33],[35,34,35,40],[35,49,35,89],[36,1,36,6],[36,7,36,13],[36,14,36,20],[36,21,36,26],[36,27,36,33],[36,34,36,40],[37,1,37,6],[37,7,37,13],[37,14,37,20],[37,21,37,26],[37,27,37,33],[37,34,37,40],[38,1,38,6],[38,7,38,13],[38,14,38,20],[38,21,38,26],[38,27,38,33],[38,34,38,40],[38,49,38,89],[39,1,39,6],[39,7,39,13],[39,14,39,20],[39,21,39,26],[39,27,39,33],[39,34,39,40],[39,49,39,89],[40,1,40,6],[40,7,40,13],[40,14,40,20],[40,21,40,26],[40,27,40,33],[40,34,40,40],[40,49,40,89],[41,1,41,6],[41,7,41,13],[41,14,41,20],[41,21,41,26],[41,27,41,33],[41,34,41,40],[41,49,41,89],[42,1,42,6],[42,7,42,13],[42,14,42,20],[42,21,42,26],[42,27,42,33],[42,34,42,40],[43,1,43,6],[43,7,43,13],[43,14,43,20],[43,21,43,26],[43,27,43,33],[43,34,43,40],[43,49,43,89],[44,1,44,6],[44,7,44,13],[44,14,44,20],[44,21,44,26],[44,27,44,33],[44,34,44,40],[44,49,44,89],[45,1,45,6],[45,7,45,13],[45,14,45,20],[45,21,45,26],[45,27,45,33],[45,34,45,40],[45,49,45,89],[46,1,46,6],[46,7,46,13],[46,14,46,20],[46,21,46,26],[46,27,46,33],[46,34,46,40],[46,49,46,89],[47,2,47,3],[47,49,47,89],[48,49,48,89]]}
[{"$nulls":9},"事業報告書",{"$nulls":25},"№",{"$nulls":45},"№"]
[{"$nulls":33},2020,{"$nulls":5},"年度"]
[null,{"$f":"計画書!B3","v":"ver.202001"},{"$nulls":30},"提出日",{"$nulls":4},"月",null,null,"日"]
[{"$nulls":7},{"$f":"IF(計画書!H4=\"\",\"\",計画書!H4)","v":"　"},{"$nulls":6},{"$f":"IF(H4=\"\",\"\",IF(H4=\"森山\",\"支部\",IF(H4=\"執行部\",\"\",\"委員会\")))","v":"委員会"},{"$nulls":3},{"$f":"IF(H4=\"執行部\",\"会長\",\"委員長\")","v":"委員長"},{"$nulls":4},{"$f":"IF(計画書!X4=\"\",\"\",計画書!X4)","v":""},{"$nulls":5},{"$f":"IF(H4=\"執行部\",\"幹　　事\",\"担当副会長\")","v":"担当副会長"},{"$nulls":5},{"$f":"IF(計画書!AJ4=\"\",\"\",計画書!AJ4)","v":""},{"$nulls":12},"会員参加者",{"$nulls":9},"名","（当日参加の会員）",{"$nulls":7},"非会員参加者",{"$nulls":9},"名"]
[null,"事業名",{"$nulls":5},{"$f":"IF(計画書!H5=\"\",\"\",計画書!H5)","v":""}]
[]
[null,"事業内容",{"$nulls":5},{"$f":"IF(計画書!H7=\"\",\"\",計画書!H7)","v":""}]
[null,"目的"]
[null,"出席者",{"$nulls":30},"受益者数"]
[{"$nulls":48},"準備などの参加会員　　",{"$nulls":10},"名"]
[null,"日時・場所",{"$nulls":5},{"$f":"IF(計画書!H11=\"\",\"\",計画書!H11)","v":""},{"$nulls":6},{"$f":"IF(計画書!N11=\"\",\"\",計画書!N11)","v":""},null,"時",{"$f":"IF(計画書!R11=\"\",\"\",計画書!Q11)","v":""},null,"分","～",{"$f":"IF(計画書!V11=\"\",\"\",計画書!V11)","v":""},null,"時",{"$f":"IF(計画書!Y11=\"\",\"\",計画書!Y11)","v":""},null,"分","場所",{"$nulls":4},{"$f":"IF(計画書!AG11=\"\",\"\",計画書!AG11)","v":""}]
[null,"事業予算",{"$nulls":7},"委員会総予算",{"$nulls":7},"今回使用額",{"$nulls":7},"累計使用額",{"$nulls":8},"残額"]
[{"$nulls":17},{"$f":"AB47","v":{"v":0,"d":"0 "}},{"$nulls":16},{"$f":"IF(J13=\"\",\"\",J13-Z13)","v":""}]
[null,"予　　　　　　　　　　　　　　　　　　　　　算",{"$nulls":46},"委員会開催日時",{"$nulls":8},"時間",null,null,"参加人数",{"$nulls":3},"計",null,null,"開催内容（簡潔に）資料作成など"]
[null,"収　　　　　　　　　　　　入",{"$nulls":19},"支　　　　　　　　　　　　出",{"$nulls":26},1,null,null,"月",null,null,"日",null,null,"時間",{"$nulls":3},"人",{"$f":"BD15*BH15","v":0},null,"H"]
[null,"項目",{"$nulls":5},"金額",{"$nulls":6},"摘要",{"$nulls":6},"項目",{"$nulls":5},"金額",{"$nulls":6},"摘要",{"$nulls":13},2,null,null,"月",null,null,"日",null,null,"時間",{"$nulls":3},"人",{"$f":"BD16*BH16","v":0},null,"H"]
[null,"委員会予算",{"$nulls":5},{"$f":"IF(計画書!H17=\"\",\"\",計画書!H17)","v":""},{"$nulls":6},{"$f":"IF(計画書!O17=\"\",\"\",計画書!O17)","v":""},{"$nulls":6},{"$f":"IF(計画書!V17=\"\",\"\",計画書!V17)","v":""},{"$nulls":5},{"$f":"IF(計画書!AB17=\"\",\"\",計画書!AB17)","v":""},{"$nulls":6},{"$f":"IF(計画書!AI17=\"\",\"\",計画書!AI17)","v":""},{"$nulls":13},3,null,null,"月",null,null,"日",null,null,"時間",{"$nulls":3},"人",0,null,"H"]
[null,{"$f":"IF(計画書!B18=\"\",\"\",計画書!B18)","v":""},{"$nulls":5},{"$f":"IF(計画書!H18=\"\",\"\",計画書!H18)","v":""},{"$nulls":6},{"$f":"IF(計画書!O18=\"\",\"\",計画書!O18)","v":""},{"$nulls":6},{"$f":"IF(計画書!V18=\"\",\"\",計画書!V18)","v":""},{"$nulls":5},{"$f":"IF(計画書!AB18=\"\",\"\",計画書!AB18)","v":""},{"$nulls":6},{"$f":"IF(計画書!AI18=\"\",\"\",計画書!AI18)","v":""},{"$nulls":13},4,null,null,"月",null,null,"日",null,null,"時間",{"$nulls":3},"人",0,null,"H"]
[null,{"$f":"IF(計画書!B19=\"\",\"\",計画書!B19)","v":""},{"$nulls":5},{"$f":"IF(計画書!H19=\"\",\"\",計画書!H19)","v":""},{"$nulls":6},{"$f":"IF(計画書!O19=\"\",\"\",計画書!O19)","v":""},{"$nulls":6},{"$f":"IF(計画書!V19=\"\",\"\",計画書!V19)","v":""},{"$nulls":5},{"$f":"IF(計画書!AB19=\"\",\"\",計画書!AB19)","v":""},{"$nulls":6},{"$f":"IF(計画書!AI19=\"\",\"\",計画書!AI19)","v":""},{"$nulls":13},5,null,null,"月",null,null,"日",null,null,"時間",{"$nulls":3},"人",0,null,"H"]
[null,{"$f":"IF(計画書!B20=\"\",\"\",計画書!B20)","v":""},{"$nulls":5},{"$f":"IF(計画書!H20=\"\",\"\",計画書!H20)","v":""},{"$nulls":6},{"$f":"IF(計画書!O20=\"\",\"\",計画書!O20)","v":""},{"$nulls":6},{"$f":"IF(計画書!V20=\"\",\"\",計画書!V20)","v":""},{"$nulls":5},{"$f":"IF(計画書!AB20=\"\",\"\",計画書!AB20)","v":""},{"$nulls":6},{"$f":"IF(計画書!AI20=\"\",\"\",計画書!AI20)","v":""},{"$nulls":13},6,null,null,"月",null,null,"日",null,null,"時間",{"$nulls":3},"人",0,null,"H"]
[null,{"$f":"IF(計画書!B21=\"\",\"\",計画書!B21)","v":""},{"$nulls":5},{"$f":"IF(計画書!H21=\"\",\"\",計画書!H21)","v":""},{"$nulls":6},{"$f":"IF(計画書!O21=\"\",\"\",計画書!O21)","v":""},{"$nulls":6},{"$f":"IF(計画書!V21=\"\",\"\",計画書!V21)","v":""},{"$nulls":5},{"$f":"IF(計画書!AB21=\"\",\"\",計画書!AB21)","v":""},{"$nulls":6},{"$f":"IF(計画書!AI21=\"\",\"\",計画書!AI21)","v":""},{"$nulls":13},7,null,null,"月",null,null,"日",null,null,"時間",{"$nulls":3},"人",0,null,"H"]
[null,{"$f":"IF(計画書!B22=\"\",\"\",計画書!B22)","v":""},{"$nulls":5},{"$f":"IF(計画書!H22=\"\",\"\",計画書!H22)","v":""},{"$nulls":6},{"$f":"IF(計画書!O22=\"\",\"\",計画書!O22)","v":""},{"$nulls":6},{"$f":"IF(計画書!V22=\"\",\"\",計画書!V22)","v":""},{"$nulls":5},{"$f":"IF(計画書!AB22=\"\",\"\",計画書!AB22)","v":""},{"$nulls":6},{"$f":"IF(計画書!AI22=\"\",\"\",計画書!AI22)","v":""},{"$nulls":13},8,null,null,"月",null,null,"日",null,null,"時間",{"$nulls":3},"人",0,null,"H"]
[null,{"$f":"IF(計画書!B23=\"\",\"\",計画書!B23)","v":""},{"$nulls":5},{"$f":"IF(計画書!H23=\"\",\"\",計画書!H23)","v":""},{"$nulls":6},{"$f":"IF(計画書!O23=\"\",\"\",計画書!O23)","v":""},{"$nulls":6},{"$f":"IF(計画書!V23=\"\",\"\",計画書!V23)","v":""},{"$nulls":5},{"$f":"IF(計画書!AB23=\"\",\"\",計画書!AB23)","v":""},{"$nulls":6},{"$f":"IF(計画書!AI23=\"\",\"\",計画書!AI23)","v":""},{"$nulls":13},9,null,null,"月",null,null,"日",null,null,"時間",{"$nulls":3},"人",0,null,"H"]
[null,{"$f":"IF(計画書!B24=\"\",\"\",計画書!B24)","v":""},{"$nulls":5},{"$f":"IF(計画書!H24=\"\",\"\",計画書!H24)","v":""},{"$nulls":6},{"$f":"IF(計画書!O24=\"\",\"\",計画書!O24)","v":""},{"$nulls":6},{"$f":"IF(計画書!V24=\"\",\"\",計画書!V24)","v":""},{"$nulls":5},{"$f":"IF(計画書!AB24=\"\",\"\",計画書!AB24)","v":""},{"$nulls":6},{"$f":"IF(計画書!AI24=\"\",\"\",計画書!AI24)","v":""},{"$nulls":12},10,{"$nulls":3},"月",null,null,"日",null,null,"時間",{"$nulls":3},"人",0,null,"H",null,null,"当日"]
[null,{"$f":"IF(計画書!B25=\"\",\"\",計画書!B25)","v":""},{"$nulls":5},{"$f":"IF(計画書!H25=\"\",\"\",計画書!H25)","v":""},{"$nulls":6},{"$f":"IF(計画書!O25=\"\",\"\",計画書!O25)","v":""},{"$nulls":6},{"$f":"IF(計画書!V25=\"\",\"\",計画書!V25)","v":""},{"$nulls":5},{"$f":"IF(計画書!AB25=\"\",\"\",計画書!AB25)","v":""},{"$nulls":6},{"$f":"IF(計画書!AI25=\"\",\"\",計画書!AI25)","v":""},{"$nulls":14},"活動奉仕時間　　　　合計　　　　　　　　H/人",{"$nulls":9},{"$f":"BK15+BK16+BK17+BK18+BK19+BK20+BK21+BK22+BK23+BK24","v":0},null,null,"H ",{"$nulls":3},"※","当日奉仕時間含む"]
[null,{"$f":"IF(計画書!B26=\"\",\"\",計画書!B26)","v":""},{"$nulls":5},{"$f":"IF(計画書!H26=\"\",\"\",計画書!H26)","v":""},{"$nulls":6},{"$f":"IF(計画書!O26=\"\",\"\",計画書!O26)","v":""},{"$nulls":6},{"$f":"IF(計画書!V26=\"\",\"\",計画書!V26)","v":""},{"$nulls":5},{"$f":"IF(計画書!AB26=\"\",\"\",計画書!AB26)","v":""},{"$nulls":6},{"$f":"IF(計画書!AI26=\"\",\"\",計画書!AI26)","v":""},{"$nulls":13},"反省点"]
[null,{"$f":"IF(計画書!B27=\"\",\"\",計画書!B27)","v":""},{"$nulls":5},{"$f":"IF(計画書!H27=\"\",\"\",計画書!H27)","v":""},{"$nulls":6},{"$f":"IF(計画書!O27=\"\",\"\",計画書!O27)","v":""},{"$nulls":6},{"$f":"IF(計画書!V27=\"\",\"\",計画書!V27)","v":""},{"$nulls":5},{"$f":"IF(計画書!AB27=\"\",\"\",計画書!AB27)","v":""},{"$nulls":6},{"$f":"IF(計画書!AI27=\"\",\"\",計画書!AI27)","v":""}]
[null,{"$f":"IF(計画書!B28=\"\",\"\",計画書!B28)","v":""},{"$nulls":5},{"$f":"IF(計画書!H28=\"\",\"\",計画書!H28)","v":""},{"$nulls":6},{"$f":"IF(計画書!O28=\"\",\"\",計画書!O28)","v":""},{"$nulls":6},{"$f":"IF(計画書!V28=\"\",\"\",計画書!V28)","v":""},{"$nulls":5},{"$f":"IF(計画書!AB28=\"\",\"\",計画書!AB28)","v":""},{"$nulls":6},{"$f":"IF(計画書!AI28=\"\",\"\",計画書!AI28)","v":""}]
[null,{"$f":"IF(計画書!B29=\"\",\"\",計画書!B29)","v":""},{"$nulls":5},{"$f":"IF(計画書!H29=\"\",\"\",計画書!H29)","v":""},{"$nulls":6},{"$f":"IF(計画書!O29=\"\",\"\",計画書!O29)","v":""},{"$nulls":6},{"$f":"IF(計画書!V29=\"\",\"\",計画書!V29)","v":""},{"$nulls":5},{"$f":"IF(計画書!AB29=\"\",\"\",計画書!AB29)","v":""},{"$nulls":6},{"$f":"IF(計画書!AI29=\"\",\"\",計画書!AI29)","v":""}]
[{"$nulls":7},{"$f":"SUM(H17:N29)","v":{"v":0,"d":"0 "}},{"$nulls":19},{"$f":"SUM(AB17:AH29)","v":{"v":0,"d":"0 "}}]
[null,"決　　　　　　　　　　　　　　　　　　　　　算"]
[null,"収　　　　　　　　　　　　入",{"$nulls":19},"支　　　　　　　　　　　　出"]
[null,"項目",{"$nulls":5},"金額",{"$nulls":6},"摘要",{"$nulls":6},"項目",{"$nulls":5},"金額",{"$nulls":6},"摘要",{"$nulls":13},"次回への引継ぎ事項(注意点及び問題点)"]
{"$rows_empty":9}
[{"$nulls":48},"備考"]
[]
[]
[]
[{"$nulls":7},{"$f":"SUM(H34:N46)","v":{"v":0,"d":"0 "}},{"$nulls":19},{"$f":"SUM(AB34:AH46)","v":{"v":0,"d":"0 "}}]